BEGIN:VCALENDAR
VERSION:2.0
PRODID:-//Ohio Forage &amp; Grasslands Council - ECPv6.15.20//NONSGML v1.0//EN
CALSCALE:GREGORIAN
METHOD:PUBLISH
X-ORIGINAL-URL:https://ohioforage.com
X-WR-CALDESC:Events for Ohio Forage &amp; Grasslands Council
REFRESH-INTERVAL;VALUE=DURATION:PT1H
X-Robots-Tag:noindex
X-PUBLISHED-TTL:PT1H
BEGIN:VTIMEZONE
TZID:America/Detroit
BEGIN:DAYLIGHT
TZOFFSETFROM:-0500
TZOFFSETTO:-0400
TZNAME:EDT
DTSTART:20220313T070000
END:DAYLIGHT
BEGIN:STANDARD
TZOFFSETFROM:-0400
TZOFFSETTO:-0500
TZNAME:EST
DTSTART:20221106T060000
END:STANDARD
BEGIN:DAYLIGHT
TZOFFSETFROM:-0500
TZOFFSETTO:-0400
TZNAME:EDT
DTSTART:20230312T070000
END:DAYLIGHT
BEGIN:STANDARD
TZOFFSETFROM:-0400
TZOFFSETTO:-0500
TZNAME:EST
DTSTART:20231105T060000
END:STANDARD
BEGIN:DAYLIGHT
TZOFFSETFROM:-0500
TZOFFSETTO:-0400
TZNAME:EDT
DTSTART:20240310T070000
END:DAYLIGHT
BEGIN:STANDARD
TZOFFSETFROM:-0400
TZOFFSETTO:-0500
TZNAME:EST
DTSTART:20241103T060000
END:STANDARD
END:VTIMEZONE
BEGIN:VEVENT
DTSTART;TZID=America/Detroit:20230726T180000
DTEND;TZID=America/Detroit:20230726T193000
DTSTAMP:20260420T222324
CREATED:20230720T010637Z
LAST-MODIFIED:20240531T000922Z
UID:4421-1690394400-1690399800@ohioforage.com
SUMMARY:Native Warm-Season Grass pasture walk
DESCRIPTION:Join GreenAcres for a Native Warm-Season Grass pasture walk in Lewis Township\, Ohio on Wed. Jul 26\, 2023 6:00 PM – 7:30 PM EDT. This informal event will allow producers to see NWSG at various growth stages and how we are managing grazing. We will discuss how the native warm season grasses were established\, how prescribed burns have been used to manage weed pressure\, and how the grasses are providing excellent quality mid-summer grazing. \nRegister here.
URL:https://ohioforage.com/event/native-warm-season-grass-pasture-walk/
LOCATION:Greenacres Lewis Township\, 7597 State Route 505\, Felicity\, OH\, 45120\, United States
CATEGORIES:Pasture Walk
ATTACH;FMTTYPE=image/png:https://ohioforage.com/wp-content/uploads/2023/07/Screenshot-2023-07-20-at-4.37.43-PM.png
END:VEVENT
END:VCALENDAR