BEGIN:VCALENDAR
VERSION:2.0
PRODID:-//Ohio Forage &amp; Grasslands Council - ECPv6.15.20//NONSGML v1.0//EN
CALSCALE:GREGORIAN
METHOD:PUBLISH
X-WR-CALNAME:Ohio Forage &amp; Grasslands Council
X-ORIGINAL-URL:https://ohioforage.com
X-WR-CALDESC:Events for Ohio Forage &amp; Grasslands Council
REFRESH-INTERVAL;VALUE=DURATION:PT1H
X-Robots-Tag:noindex
X-PUBLISHED-TTL:PT1H
BEGIN:VTIMEZONE
TZID:America/Detroit
BEGIN:DAYLIGHT
TZOFFSETFROM:-0500
TZOFFSETTO:-0400
TZNAME:EDT
DTSTART:20230312T070000
END:DAYLIGHT
BEGIN:STANDARD
TZOFFSETFROM:-0400
TZOFFSETTO:-0500
TZNAME:EST
DTSTART:20231105T060000
END:STANDARD
BEGIN:DAYLIGHT
TZOFFSETFROM:-0500
TZOFFSETTO:-0400
TZNAME:EDT
DTSTART:20240310T070000
END:DAYLIGHT
BEGIN:STANDARD
TZOFFSETFROM:-0400
TZOFFSETTO:-0500
TZNAME:EST
DTSTART:20241103T060000
END:STANDARD
BEGIN:DAYLIGHT
TZOFFSETFROM:-0500
TZOFFSETTO:-0400
TZNAME:EDT
DTSTART:20250309T070000
END:DAYLIGHT
BEGIN:STANDARD
TZOFFSETFROM:-0400
TZOFFSETTO:-0500
TZNAME:EST
DTSTART:20251102T060000
END:STANDARD
END:VTIMEZONE
BEGIN:VEVENT
DTSTART;TZID=America/Detroit:20240723T080000
DTEND;TZID=America/Detroit:20240725T170000
DTSTAMP:20260420T054146
CREATED:20240613T154853Z
LAST-MODIFIED:20240613T155020Z
UID:4568-1721721600-1721926800@ohioforage.com
SUMMARY:Richland County Pastures for Profit Grazing School
DESCRIPTION:Those new to livestock and forage management are encouraged to join! \nGrazing School:\nDates: July 23rd and July 25th from 6:00 PM to 9:00 PM\nLocation: 1495 W. Longview Avenue\, Mansfield\, Ohio\nTo register\, click here or call 419-747-8684 or mail checks to Richland SWCD 1495 W. Longview Avenue\, Mansfield\, Ohio 44906
URL:https://ohioforage.com/event/richland-county-pastures-for-profit-grazing-school/
LOCATION:The Longview Center\, 1495 W. Longview Avenue\, Mansfield\, OH\, 44906\, United States
CATEGORIES:Pasture Walk,Pastures for Profit
ATTACH;FMTTYPE=image/jpeg:https://ohioforage.com/wp-content/uploads/2022/04/ohio-forage-and-grasslands.jpg
END:VEVENT
END:VCALENDAR